BEGIN:VCALENDAR
VERSION:2.0
PRODID:-//Seals Swimming - ECPv6.11.2//NONSGML v1.0//EN
CALSCALE:GREGORIAN
METHOD:PUBLISH
X-ORIGINAL-URL:https://sealsswimclub.co.za
X-WR-CALDESC:Events for Seals Swimming
REFRESH-INTERVAL;VALUE=DURATION:PT1H
X-Robots-Tag:noindex
X-PUBLISHED-TTL:PT1H
BEGIN:VTIMEZONE
TZID:Europe/Helsinki
BEGIN:DAYLIGHT
TZOFFSETFROM:+0200
TZOFFSETTO:+0300
TZNAME:EEST
DTSTART:20260329T010000
END:DAYLIGHT
BEGIN:STANDARD
TZOFFSETFROM:+0300
TZOFFSETTO:+0200
TZNAME:EET
DTSTART:20261025T010000
END:STANDARD
END:VTIMEZONE
BEGIN:VEVENT
DTSTART;VALUE=DATE:20260505
DTEND;VALUE=DATE:20260511
DTSTAMP:20260419T185331
CREATED:20260217T091352Z
LAST-MODIFIED:20260217T091352Z
UID:2073-1777939200-1778457599@sealsswimclub.co.za
SUMMARY:Africa Aquatics Swimming Championships
DESCRIPTION:
URL:https://sealsswimclub.co.za/event/africa-aquatics-swimming-championships/
LOCATION:Accra\, Ghana
CATEGORIES:International Competition Gala
END:VEVENT
END:VCALENDAR