BEGIN:VCALENDAR
VERSION:2.0
PRODID:-//Seals Swimming - ECPv6.11.2//NONSGML v1.0//EN
CALSCALE:GREGORIAN
METHOD:PUBLISH
X-WR-CALNAME:Seals Swimming
X-ORIGINAL-URL:https://sealsswimclub.co.za
X-WR-CALDESC:Events for Seals Swimming
REFRESH-INTERVAL;VALUE=DURATION:PT1H
X-Robots-Tag:noindex
X-PUBLISHED-TTL:PT1H
BEGIN:VTIMEZONE
TZID:Europe/Helsinki
BEGIN:DAYLIGHT
TZOFFSETFROM:+0200
TZOFFSETTO:+0300
TZNAME:EEST
DTSTART:20260329T010000
END:DAYLIGHT
BEGIN:STANDARD
TZOFFSETFROM:+0300
TZOFFSETTO:+0200
TZNAME:EET
DTSTART:20261025T010000
END:STANDARD
END:VTIMEZONE
BEGIN:VEVENT
DTSTART;VALUE=DATE:20260306
DTEND;VALUE=DATE:20260309
DTSTAMP:20260419T185044
CREATED:20260217T085149Z
LAST-MODIFIED:20260217T085149Z
UID:2043-1772755200-1773014399@sealsswimclub.co.za
SUMMARY:SA National Open Water Championships
DESCRIPTION:
URL:https://sealsswimclub.co.za/event/sa-national-open-water-championships/
LOCATION:Marina Martinique\, Jeffreys Bay\, South Africa
CATEGORIES:National OW Competition
END:VEVENT
END:VCALENDAR